BEGIN:VCALENDAR
VERSION:2.0
PRODID:-//ChamberMaster//Event Calendar 2.0//EN
METHOD:PUBLISH
X-PUBLISHED-TTL:P3D
REFRESH-INTERVAL:P3D
CALSCALE:GREGORIAN
BEGIN:VEVENT
DTSTART;VALUE=DATE:20251129
DTEND;VALUE=DATE:20251227
TRANSP:TRANSPARENT
X-MICROSOFT-CDO-ALLDAYEVENT:TRUE
SUMMARY:2025 Holiday Ornament Hunt - Shop Local - Shop Small Saturday
DESCRIPTION:Join the 2025 Snoqualmie Valley Shop Small Saturday   Ornament Treasure Hunt!  \n\nGet ready for a community-wide adventure! Over 1\,200 handmade keepsake ornaments\, created by talented Mount Si High School students\, will be hidden throughout the Snoqualmie Valley   and you get to keep any ornament you find!\n\nEven better  each ornament includes a chance to win THOUSANDS of dollars in prizes from local businesses.\n\n  How to Play:\n\n1   Find an ornament\n\n2   Scan the QR code on it\n\n3   Enter to win amazing prizes\n\nBring your friends\, family\, and holiday spirit   and explore our vibrant local shops while you hunt.\n\n  Learn more: visitsnovalley.com/shoplocal\n\nSupport local. Have fun. Win prizes. Happy hunting!
X-ALT-DESC;FMTTYPE=text/html:<p data-end="172" data-start="83">&#127876\; <strong data-end="167" data-start="86">Join the 2025 Snoqualmie Valley Shop Small Saturday &ndash\; Ornament Treasure Hunt!</strong> &#127873\;</p>\n\n<p data-end="407" data-start="174">Get ready for a community-wide adventure! Over <strong data-end="258" data-start="221">1\,200 handmade keepsake ornaments</strong>\, created by talented Mount Si High School students\, will be hidden throughout the Snoqualmie Valley &mdash\; and <strong data-end="406" data-start="365">you get to keep any ornament you find</strong>!</p>\n\n<p data-end="520" data-start="409">Even better&hellip\; each ornament includes a chance to win <strong data-end="495" data-start="461">THOUSANDS of dollars in prizes</strong> from local businesses.</p>\n\n<p data-end="628" data-start="522">&#10024\; <strong data-end="540" data-start="524">How to Play:</strong><br data-end="543" data-start="540" />\n1&#65039\;&#8419\; Find an ornament<br data-end="566" data-start="563" />\n2&#65039\;&#8419\; Scan the QR code on it<br data-end="595" data-start="592" />\n3&#65039\;&#8419\; Enter to win amazing prizes</p>\n\n<p data-end="730" data-start="630">Bring your friends\, family\, and holiday spirit &mdash\; and explore our vibrant local shops while you hunt.</p>\n\n<p data-end="779" data-start="732">&#128279\; Learn more: <strong data-end="779" data-start="747">visitsnovalley.com/shoplocal</strong></p>\n\n<p data-end="837" data-is-last-node="" data-is-only-node="" data-start="781">Support local. Have fun. Win prizes. Happy hunting! &#127877\;&#127794\;</p>\n
LOCATION:Snoqualmie Valley - Shop Local
UID:e.1840.24057
SEQUENCE:3
DTSTAMP:20260422T061549Z
URL:https://business.snovalley.org/events/details/2025-holiday-ornament-hunt-shop-local-shop-small-saturday-24057
END:VEVENT

END:VCALENDAR
