BEGIN:VCALENDAR
VERSION:2.0
PRODID:-//ChamberMaster//Event Calendar 2.0//EN
METHOD:PUBLISH
X-PUBLISHED-TTL:P3D
REFRESH-INTERVAL:P3D
CALSCALE:GREGORIAN
BEGIN:VEVENT
DTSTART:20260422T180000Z
DTEND:20260422T200000Z
X-MICROSOFT-CDO-ALLDAYEVENT:FALSE
SUMMARY:2026 April Luncheon - State of Cities
DESCRIPTION:SnoValley Chamber April Luncheon   State of the Cities 2026\n\nJoin us for the Snoqualmie Valley Chamber Luncheon as we welcome North Bend Mayor Mary Miller and Snoqualmie Mayor Jim Mayhew for the annual State of the Cities Address. Hear firsthand updates on key initiatives\, economic development\, and priorities shaping our communities in 2026. This popular luncheon offers valuable insight into the future of the Snoqualmie Valley and a great opportunity to connect with local business and civic leaders.\n\nMust pre-register to attend.\n\n\n\nLunch Sponsor - Port of Seattle
X-ALT-DESC;FMTTYPE=text/html:<p data-end="120" data-start="65"><strong data-end="120" data-start="65">SnoValley Chamber April Luncheon &ndash\; State of the Cities 2026</strong></p>\n\n<p data-end="575" data-start="122">Join us for the Snoqualmie Valley Chamber Luncheon as we welcome North Bend Mayor Mary Miller and Snoqualmie Mayor Jim Mayhew for the annual <strong data-end="300" data-start="269">State of the Cities Address</strong>. Hear firsthand updates on key initiatives\, economic development\, and priorities shaping our communities in 2026. This popular luncheon offers valuable insight into the future of the Snoqualmie Valley&mdash\;and a great opportunity to connect with local business and civic leaders.</p>\n\n<p data-end="670" data-is-last-node="" data-is-only-node="" data-start="577">Must pre-register to attend.<br />\n<br />\nLunch Sponsor - Port of Seattle</p>\n
LOCATION:The Club at Snoqualmie Ridge 36005 SE Ridge St\, Snoqualmie
UID:e.1840.24107
SEQUENCE:3
DTSTAMP:20260423T203028Z
URL:https://business.snovalley.org/events/details/2026-april-luncheon-state-of-cities-24107
END:VEVENT

END:VCALENDAR
