BEGIN:VCALENDAR
VERSION:2.0
PRODID:-//ChamberMaster//Event Calendar 2.0//EN
METHOD:PUBLISH
X-PUBLISHED-TTL:P3D
REFRESH-INTERVAL:P3D
CALSCALE:GREGORIAN
BEGIN:VEVENT
DTSTART:20150621T183000Z
DTEND:20150621T234500Z
X-MICROSOFT-CDO-ALLDAYEVENT:FALSE
SUMMARY:Fathers Ride Free for Father's Day
DESCRIPTION:The Northwest Railway Museum invites children to treat their dads to a special train excursion aboard the Snoqualmie Valley Railroad this Father's Day weekend\, June 20-21. Fathers ride free when accompanied by their paying children   of any age! Enjoy views of the Cascade foothills\, Snoqualmie Falls and the Snoqualmie Valley as you relax aboard the Northwest Railway Museum's antique coaches. Bring the whole family!
X-ALT-DESC;FMTTYPE=text/html:<span style="font-family:calibri\,sans-serif"><span style="font-size:12.0pt">The Northwest Railway Museum invites children to treat their dads to a special train excursion aboard the Snoqualmie Valley Railroad this Father&rsquo\;s Day weekend\, June 20-21. Fathers ride free when accompanied by their paying children &ndash\; of any age! Enjoy views of the Cascade foothills\, Snoqualmie Falls and the Snoqualmie Valley as you relax aboard the Northwest Railway Museum&rsquo\;s antique coaches. Bring the whole family!</span></span>
LOCATION:Northwest Railway Museum
UID:e.1840.148
SEQUENCE:3
DTSTAMP:20260423T073532Z
URL:https://business.snovalley.org/events/details/fathers-ride-free-for-father-s-day-06-21-2015-148
END:VEVENT

END:VCALENDAR
