BEGIN:VCALENDAR
VERSION:2.0
PRODID:-//ChamberMaster//Event Calendar 2.0//EN
METHOD:PUBLISH
X-PUBLISHED-TTL:P3D
REFRESH-INTERVAL:P3D
CALSCALE:GREGORIAN
BEGIN:VEVENT
DTSTART:20240509T230000Z
DTEND:20240510T020000Z
X-MICROSOFT-CDO-ALLDAYEVENT:FALSE
SUMMARY:Grand Opening - Ribbon Cutting - Snoqualmie Valley Real Estate North Bend
DESCRIPTION:Join us for a fun evening celebrating our new space in North Bend! We'll have light appetizers\, drinks\, and fun! Ribbon cutting and mingling. Come in when you can and say hello! RSVP requested. More details to follow! RSVP to: kimmy@snoqualmievalleyre.com
X-ALT-DESC;FMTTYPE=text/html:<span style="color: rgb(36\, 36\, 36)\; font-family: &quot\;Segoe UI&quot\;\, &quot\;Segoe UI Web (West European)&quot\;\, &quot\;Segoe UI&quot\;\, -apple-system\, BlinkMacSystemFont\, Roboto\, &quot\;Helvetica Neue&quot\;\, sans-serif\; font-size: 15px\;">Join us for a fun evening celebrating our new space in North Bend! We&#39\;ll have light appetizers\, drinks\, and fun! Ribbon cutting and mingling. Come in when you can and say hello! RSVP requested. More details to follow! RSVP to:&nbsp\;</span><a data-linkindex="0" href="mailto:kimmy@snoqualmievalleyre.com" style="border: 0px\; font-variant-numeric: inherit\; font-variant-east-asian: inherit\; font-variant-alternates: inherit\; font-variant-position: inherit\; font-stretch: inherit\; font-size: 15px\; line-height: inherit\; font-family: &quot\;Segoe UI&quot\;\, &quot\;Segoe UI Web (West European)&quot\;\, &quot\;Segoe UI&quot\;\, -apple-system\, BlinkMacSystemFont\, Roboto\, &quot\;Helvetica Neue&quot\;\, sans-serif\; font-optical-sizing: inherit\; font-kerning: inherit\; font-feature-settings: inherit\; font-variation-settings: inherit\; margin: 0px\; padding: 0px\; vertical-align: baseline\;"><span style="border: 0px\; font-style: inherit\; font-variant: inherit\; font-weight: inherit\; font-stretch: inherit\; font-size: 9pt\; line-height: inherit\; font-family: Montserrat\, sans-serif\; font-optical-sizing: inherit\; font-kerning: inherit\; font-feature-settings: inherit\; font-variation-settings: inherit\; margin: 0px\; padding: 0px\; vertical-align: baseline\; color: rgb(17\, 85\, 204)\; background-color: transparent\;">kimmy@snoqualmievalleyre.com</span></a><span style="border: 0px\; font-variant-numeric: inherit\; font-variant-east-asian: inherit\; font-variant-alternates: inherit\; font-variant-position: inherit\; font-stretch: inherit\; font-size: 9pt\; line-height: inherit\; font-family: Montserrat\, sans-serif\; font-optical-sizing: inherit\; font-kerning: inherit\; font-feature-settings: inherit\; font-variation-settings: inherit\; margin: 0px\; padding: 0px\; vertical-align: baseline\; color: rgb(67\, 67\, 67)\; background-color: transparent\;">&nbsp\;</span>
LOCATION:101 W Park St Suite C\, North Bend\, WA 98045
UID:e.1840.14519
SEQUENCE:3
DTSTAMP:20260419T145536Z
URL:https://business.snovalley.org/events/details/grand-opening-ribbon-cutting-snoqualmie-valley-real-estate-north-bend-14519
END:VEVENT

END:VCALENDAR
