BEGIN:VCALENDAR
VERSION:2.0
PRODID:-//ChamberMaster//Event Calendar 2.0//EN
METHOD:PUBLISH
X-PUBLISHED-TTL:P3D
REFRESH-INTERVAL:P3D
CALSCALE:GREGORIAN
BEGIN:VEVENT
DTSTART:20260927T000000Z
DTEND:20260927T050000Z
X-MICROSOFT-CDO-ALLDAYEVENT:FALSE
SUMMARY:Homecoming: An Evening of Giving
DESCRIPTION:Reclaim's Homecoming is an evening dedicated to celebrating the powerful journey of finding home. Both for the individuals we serve and the community that makes this work possible. Set under the stars\, this special night brings together supporters\, partners\, and neighbors to honor resilience\, hope\, and the courage it takes to rebuild.\n\nAt the heart of this work is our mission: to provide safe shelter\, support\, and pathways to opportunity\, connection\, and stability for individuals and families experiencing housing instability in the Snoqualmie Valley and beyond. Homecoming is not only a celebration\; it's a reflection of what's possible when a community comes together to ensure everyone has a place to call home.
X-ALT-DESC;FMTTYPE=text/html:<p>Reclaim&#39\;s Homecoming is an evening dedicated to celebrating the powerful journey of finding home. Both for the individuals we serve and the community that makes this work possible. Set under the stars\, this special night brings together supporters\, partners\, and neighbors to honor resilience\, hope\, and the courage it takes to rebuild.</p>\n\n<p>At the heart of this work is our mission: to provide safe shelter\, support\, and pathways to opportunity\, connection\, and stability for individuals and families experiencing housing instability in the Snoqualmie Valley and beyond. Homecoming is not only a celebration\; it&rsquo\;s a reflection of what&rsquo\;s possible when a community comes together to ensure everyone has a place to call home.</p>\n
LOCATION:Carnation Farms 28901 NE Carnation Farm Rd\, Carnation\, WA 98014
UID:e.1840.24991
SEQUENCE:3
DTSTAMP:20260424T000239Z
URL:https://business.snovalley.org/events/details/homecoming-an-evening-of-giving-24991
END:VEVENT

END:VCALENDAR
