BEGIN:VCALENDAR
VERSION:2.0
PRODID:-//ChamberMaster//Event Calendar 2.0//EN
METHOD:PUBLISH
X-PUBLISHED-TTL:P3D
REFRESH-INTERVAL:P3D
CALSCALE:GREGORIAN
BEGIN:VEVENT
DTSTART:20260508T000000Z
DTEND:20260508T030000Z
X-MICROSOFT-CDO-ALLDAYEVENT:FALSE
SUMMARY:Ladies Night - Downtown Snoqualmie
DESCRIPTION:Ladies Night: Sip\, Shop & Stroll - Open to all.\n\nGrab your friends and join us for a fun and relaxing evening in Downtown Snoqualmie.\n\nThursday\, May 7\n\n5:00   8:00 PM\n\nEnjoy a night out designed just for you:\n\nSip on refreshments\n\nShop local boutiques and businesses\n\nStroll through downtown and explore\n\nFree Childcare Available\n\nDrop off the kids and enjoy a worry-free evening.\n\nWhether you're catching up with friends\, discovering new shops\, or just treating yourself\, this is the perfect midweek escape.\n\nTag your friends and make it a night to remember.
X-ALT-DESC;FMTTYPE=text/html:<div class="xdj266r x14z9mp xat24cr x1lziwak x1vvkbs" style="margin-inline: 0px\; overflow-wrap: break-word\; margin-bottom: 0px\; margin-top: 0px\; font-family: &quot\;Segoe UI Historic&quot\;\, &quot\;Segoe UI&quot\;\, Helvetica\, Arial\, sans-serif\; color: rgb(8\, 8\, 9)\; font-size: 15px\;">Ladies Night: Sip\, Shop &amp\; Stroll - Open to all.</div>\n\n<div class="x14z9mp xat24cr x1lziwak x1vvkbs xtlvy1s" style="margin-inline: 0px\; overflow-wrap: break-word\; margin-bottom: 0px\; margin-top: 0.5em\; font-family: &quot\;Segoe UI Historic&quot\;\, &quot\;Segoe UI&quot\;\, Helvetica\, Arial\, sans-serif\; color: rgb(8\, 8\, 9)\; font-size: 15px\;">Grab your friends and join us for a fun and relaxing evening in Downtown Snoqualmie.</div>\n\n<div class="x14z9mp xat24cr x1lziwak x1vvkbs xtlvy1s" style="margin-inline: 0px\; overflow-wrap: break-word\; margin-bottom: 0px\; margin-top: 0.5em\; font-family: &quot\;Segoe UI Historic&quot\;\, &quot\;Segoe UI&quot\;\, Helvetica\, Arial\, sans-serif\; color: rgb(8\, 8\, 9)\; font-size: 15px\;">Thursday\, May 7<br class="html-br" />\n5:00 &ndash\; 8:00 PM</div>\n\n<div class="x14z9mp xat24cr x1lziwak x1vvkbs xtlvy1s" style="margin-inline: 0px\; overflow-wrap: break-word\; margin-bottom: 0px\; margin-top: 0.5em\; font-family: &quot\;Segoe UI Historic&quot\;\, &quot\;Segoe UI&quot\;\, Helvetica\, Arial\, sans-serif\; color: rgb(8\, 8\, 9)\; font-size: 15px\;">Enjoy a night out designed just for you:<br class="html-br" />\nSip on refreshments<br class="html-br" />\nShop local boutiques and businesses<br class="html-br" />\nStroll through downtown and explore</div>\n\n<div class="x14z9mp xat24cr x1lziwak x1vvkbs xtlvy1s" style="margin-inline: 0px\; overflow-wrap: break-word\; margin-bottom: 0px\; margin-top: 0.5em\; font-family: &quot\;Segoe UI Historic&quot\;\, &quot\;Segoe UI&quot\;\, Helvetica\, Arial\, sans-serif\; color: rgb(8\, 8\, 9)\; font-size: 15px\;">Free Childcare Available<br class="html-br" />\nDrop off the kids and enjoy a worry-free evening.</div>\n\n<div class="x14z9mp xat24cr x1lziwak x1vvkbs xtlvy1s" style="margin-inline: 0px\; overflow-wrap: break-word\; margin-bottom: 0px\; margin-top: 0.5em\; font-family: &quot\;Segoe UI Historic&quot\;\, &quot\;Segoe UI&quot\;\, Helvetica\, Arial\, sans-serif\; color: rgb(8\, 8\, 9)\; font-size: 15px\;">Whether you&#39\;re catching up with friends\, discovering new shops\, or just treating yourself\, this is the perfect midweek escape.</div>\n\n<div class="x14z9mp xat24cr x1lziwak x1vvkbs xtlvy1s" style="margin-inline: 0px\; overflow-wrap: break-word\; margin-bottom: 0px\; margin-top: 0.5em\; font-family: &quot\;Segoe UI Historic&quot\;\, &quot\;Segoe UI&quot\;\, Helvetica\, Arial\, sans-serif\; color: rgb(8\, 8\, 9)\; font-size: 15px\;">Tag your friends and make it a night to remember.&nbsp\;</div>\n
LOCATION:Downtown Snoqualamie - Railroad Ave & Falls Ave.
UID:e.1840.24988
SEQUENCE:3
DTSTAMP:20260421T021720Z
URL:https://business.snovalley.org/events/details/ladies-night-downtown-snoqualmie-24988
END:VEVENT

END:VCALENDAR
