BEGIN:VCALENDAR
VERSION:2.0
PRODID:-//ChamberMaster//Event Calendar 2.0//EN
METHOD:PUBLISH
X-PUBLISHED-TTL:P3D
REFRESH-INTERVAL:P3D
CALSCALE:GREGORIAN
BEGIN:VEVENT
DTSTART:20240414T010000Z
DTEND:20240414T040000Z
X-MICROSOFT-CDO-ALLDAYEVENT:FALSE
SUMMARY:Live Music @ Sigillo Cellars - Steve Olson
DESCRIPTION:Covers throughout the Decades
X-ALT-DESC;FMTTYPE=text/html:Covers throughout the Decades
LOCATION:Sigillo Cellars Historic Downtown Snoqualmie
UID:e.1840.22245
SEQUENCE:3
DTSTAMP:20260420T110912Z
URL:https://business.snovalley.org/events/details/live-music-sigillo-cellars-steve-olson-04-13-2024-22245
END:VEVENT

END:VCALENDAR
