BEGIN:VCALENDAR
VERSION:2.0
PRODID:-//ChamberMaster//Event Calendar 2.0//EN
METHOD:PUBLISH
X-PUBLISHED-TTL:P3D
REFRESH-INTERVAL:P3D
CALSCALE:GREGORIAN
BEGIN:VEVENT
DTSTART:20260426T010000Z
DTEND:20260426T065500Z
X-MICROSOFT-CDO-ALLDAYEVENT:FALSE
SUMMARY:North Bend Jazz Walk
DESCRIPTION:One Ticket\, Eighteen Venues\, One Night of Incredible Jazz!\n\nThe fifteenth annual North Bend Jazz Walk\, 6 PM to Midnight Saturday\, April 25\, 2026!\n~ High School Bands start at 5 PM ~\n\nOne Night of Amazing Music Featuring:\nThe Greta Matassa Quintet\, Jay Thomas Tenor Dynasty 2\, Mark Taylor\, Travis Ranney\, Joel Steinke\, Adam Kessler\, Matt Williams\, Kelly Eisenhour\, Reuel Lubag\, Kandin Neri Trio\, Leah Stillwell Duo\, Dan Taylor Trio\, Greg Schroeder\, Nathan Fisher\, Moe Weisner Quartet\, Ben Thomas Trio\, Janette West Quartet\, Kate Olsen KO Quartet\, Greg Williamson\, Heather Chriscaden\, Brent Jensen\, Bill Anschell\, Free Fall with Rick Mandyck\, Thomas Marriott\, Jeff Johnson\, John Bishop\, Audrey Stangland Trio\, Sammamish High School Jazz Band\, Fagan Brazilian Quartet\, Pearl Django\, Jerry Steinhilber Trio\, Danny Kolke Trio\, Richard Cole 4 + 1\, Roosevelt High School Jazz Band\, Bonney Lake High School Jazz Band\, Central Washington University Combo\, Bellevue College Jazz Band\, Mercer Island High School Jazz Band\, Mount Si High School Jazz Bands and many more...
X-ALT-DESC;FMTTYPE=text/html:<h1 style="text-align:center">One Ticket\, Eighteen Venues\, One Night of Incredible Jazz!</h1>\n\n<h2 style="text-align:center">The fifteenth annual North Bend Jazz Walk\, 6 PM to Midnight Saturday\, April 25\, 2026!</h2>\n<span style="background-color:rgb(26\, 26\, 26)\; color:rgb(240\, 240\, 240)\; font-family:helvetica\,arial\,sans-serif\; font-size:16px">~ High School Bands start at 5 PM ~</span>\n\n<h2 style="text-align:center">One Night of Amazing Music Featuring:</h2>\n<em>The Greta Matassa Quintet\, Jay Thomas Tenor Dynasty 2\, Mark Taylor\, Travis Ranney\, Joel Steinke\, Adam Kessler\, Matt Williams\, Kelly Eisenhour\, Reuel Lubag\, Kandin Neri Trio\, Leah Stillwell Duo\, Dan Taylor Trio\, Greg Schroeder\, Nathan Fisher\, Moe Weisner Quartet\, Ben Thomas Trio\, Janette West Quartet\, Kate Olsen KO Quartet\, Greg Williamson\, Heather Chriscaden\, Brent Jensen\, Bill Anschell\, Free Fall with Rick Mandyck\, Thomas Marriott\, Jeff Johnson\, John Bishop\, Audrey Stangland Trio\, Sammamish High School Jazz Band\, Fagan Brazilian Quartet\, Pearl Django\, Jerry Steinhilber Trio\, Danny Kolke Trio\, Richard Cole 4 + 1\, Roosevelt High School Jazz Band\, Bonney Lake High School Jazz Band\, Central Washington University Combo\, Bellevue College Jazz Band\, Mercer Island High School Jazz Band\, Mount Si High School Jazz Bands and many more...</em>
LOCATION:Historic downtown North Bend
UID:e.1840.24985
SEQUENCE:3
DTSTAMP:20260421T013843Z
URL:https://business.snovalley.org/events/details/north-bend-jazz-walk-24985
END:VEVENT

END:VCALENDAR
