BEGIN:VCALENDAR
VERSION:2.0
PRODID:-//ChamberMaster//Event Calendar 2.0//EN
METHOD:PUBLISH
X-PUBLISHED-TTL:P3D
REFRESH-INTERVAL:P3D
CALSCALE:GREGORIAN
BEGIN:VEVENT
DTSTART:20260426T220000Z
DTEND:20260427T003000Z
X-MICROSOFT-CDO-ALLDAYEVENT:FALSE
SUMMARY:The Martian
DESCRIPTION:The final film in our four-part Science On Screen  series. Last month\, Treehouse Master Pete Nelson joined forces with Apollo 13 to celebrate solutions to failure-is-not-an-option problems. This month we're bringing in popular mycologist Daniel Winkler to join forces with The Martian\, starring Matt Damon\, to explore fungi and humans in space\, a celebration of human ingenuity\, survival\, and the astonishing adaptability of life under impossible conditions. One night\, two thrilling events!
X-ALT-DESC;FMTTYPE=text/html:The final film in our four-part Science On Screen&reg\; series. Last month\, Treehouse Master Pete Nelson joined forces with Apollo 13 to celebrate solutions to failure-is-not-an-option problems. This month we&rsquo\;re bringing in popular mycologist Daniel Winkler to join forces with The Martian\, starring Matt Damon\, to explore fungi and humans in space\, a celebration of human ingenuity\, survival\, and the astonishing adaptability of life under impossible conditions. One night\, two thrilling events!
LOCATION:North Bend Theatre
UID:e.1840.24986
SEQUENCE:3
DTSTAMP:20260421T013716Z
URL:https://business.snovalley.org/events/details/the-martian-24986
END:VEVENT

END:VCALENDAR
