BEGIN:VCALENDAR
VERSION:2.0
PRODID:-//ChamberMaster//Event Calendar 2.0//EN
METHOD:PUBLISH
X-PUBLISHED-TTL:P3D
REFRESH-INTERVAL:P3D
CALSCALE:GREGORIAN
BEGIN:VEVENT
DTSTART:20260521T010000Z
DTEND:20260521T040000Z
X-MICROSOFT-CDO-ALLDAYEVENT:FALSE
SUMMARY:Trivia Night in Support of Encompass
DESCRIPTION:Calling all trivia enthusiasts!\n\nWe invite you to join us for an entertaining evening of friendly competition! \n\n \n\nWHEN:  Wednesday\, May 20\, 2026\n\n6:00-7:00 pm - Doors\, Dinner\, and Drinks\n\n7:00-9:00 pm  Trivia!\n\n \n\nWHAT:  A professional host for six rounds of not-too-challenging\, multi-media trivia\n\n- Dinner with dessert\n\n- Local beer\, wine\, and beverages\n\n- An amazing prize package for the winning team\n\n \n\nWHERE: North Fork Farms\n\n 43010 SE 79th Street\, Snoqualmie\, WA 98065\n\n \n\nHOW: Purchase tickets here.\n\nTickets are $50 per person and include trivia\, dinner\, and drinks.\n\nTeams of 6-8 are recommended but not required.\n\nDon't have a team? No problem! We can seat you with others at the event.\n\n \n\nRegistration closes on May 15\, 2026.
X-ALT-DESC;FMTTYPE=text/html:<p style="text-align:center"><strong>Calling all trivia enthusiasts!</strong></p>\n\n<p style="text-align:center">We invite you to join us for an entertaining evening of friendly competition!&nbsp\;</p>\n\n<p style="text-align:center">&nbsp\;</p>\n\n<p style="text-align:center"><strong>WHEN:&nbsp\;&nbsp\;</strong>Wednesday\, May 20\, 2026</p>\n\n<p style="text-align:center">6:00-7:00 pm - Doors\, Dinner\, and Drinks</p>\n\n<p style="text-align:center">7:00-9:00 pm &ndash\;Trivia!</p>\n\n<p style="text-align:center">&nbsp\;</p>\n\n<p style="text-align:center"><strong>WHAT:</strong>&nbsp\;&nbsp\;A professional host for six rounds of not-too-challenging\, multi-media trivia</p>\n\n<p style="text-align:center">- Dinner with dessert</p>\n\n<p style="text-align:center">- Local beer\, wine\, and beverages</p>\n\n<p style="text-align:center">- An amazing prize package for the winning team</p>\n\n<p style="text-align:center">&nbsp\;</p>\n\n<p style="text-align:center"><strong>WHERE:&nbsp\;</strong><a href="https://encompassnw.ejoinme.org/locationandparking"><strong>North Fork Farms</strong></a></p>\n\n<p style="text-align:center">&nbsp\;43010 SE 79th Street\, Snoqualmie\, WA 98065</p>\n\n<p style="text-align:center">&nbsp\;</p>\n\n<p style="text-align:center"><strong>HOW:&nbsp\;</strong>Purchase tickets <a href="https://encompassnw.ejoinme.org/2026triviaregistration">here</a>.</p>\n\n<p style="text-align:center">Tickets are&nbsp\;$50 per person and include trivia\, dinner\, and drinks.</p>\n\n<p style="text-align:center">Teams of 6-8 are recommended but not required.</p>\n\n<p style="text-align:center"><strong>Don&#39\;t have a team?</strong> No problem! We can seat you with others at the event.</p>\n\n<p style="text-align:center">&nbsp\;</p>\n\n<p style="text-align:center">Registration closes on May 15\, 2026.</p>\n
LOCATION:North Fork Farms 43010 SE 79th Street\, Snoqualmie\, WA 98065
UID:e.1840.24987
SEQUENCE:3
DTSTAMP:20260423T134214Z
URL:https://business.snovalley.org/events/details/trivia-night-in-support-of-encompass-05-20-2026-24987
END:VEVENT

END:VCALENDAR
